BEGIN:VCALENDAR
VERSION:2.0
PRODID:-//Chalice of Mercy, a non-profit organization for Ukraine. - ECPv4.7.3//NONSGML v1.0//EN
CALSCALE:GREGORIAN
METHOD:PUBLISH
X-WR-CALNAME:Chalice of Mercy, a non-profit organization for Ukraine.
X-ORIGINAL-URL:https://chaliceofmercy.org
X-WR-CALDESC:Events for Chalice of Mercy, a non-profit organization for Ukraine.
BEGIN:VEVENT
DTSTART;TZID=UTC+0:20181217T080000
DTEND;TZID=UTC+0:20181217T170000
DTSTAMP:20260425T185303
CREATED:20181217T143533Z
LAST-MODIFIED:20181217T143604Z
UID:934-1545033600-1545066000@chaliceofmercy.org
SUMMARY:asdf
DESCRIPTION:
URL:https://chaliceofmercy.org/event/asdf/
CATEGORIES:Cenas Benéficas
ATTACH;FMTTYPE=image/jpeg:https://chaliceofmercy.org/wp-content/uploads/2018/11/pexels-photo5.jpg
END:VEVENT
END:VCALENDAR